BEGIN:VCALENDAR
VERSION:2.0
PRODID:-//Soul Re Re Re - ECPv6.15.20//NONSGML v1.0//EN
CALSCALE:GREGORIAN
METHOD:PUBLISH
X-WR-CALNAME:Soul Re Re Re
X-ORIGINAL-URL:https://soulrerere.com
X-WR-CALDESC:Events for Soul Re Re Re
REFRESH-INTERVAL;VALUE=DURATION:PT1H
X-Robots-Tag:noindex
X-PUBLISHED-TTL:PT1H
BEGIN:VTIMEZONE
TZID:America/Chicago
BEGIN:DAYLIGHT
TZOFFSETFROM:-0600
TZOFFSETTO:-0500
TZNAME:CDT
DTSTART:20230312T080000
END:DAYLIGHT
BEGIN:STANDARD
TZOFFSETFROM:-0500
TZOFFSETTO:-0600
TZNAME:CST
DTSTART:20231105T070000
END:STANDARD
BEGIN:DAYLIGHT
TZOFFSETFROM:-0600
TZOFFSETTO:-0500
TZNAME:CDT
DTSTART:20240310T080000
END:DAYLIGHT
BEGIN:STANDARD
TZOFFSETFROM:-0500
TZOFFSETTO:-0600
TZNAME:CST
DTSTART:20241103T070000
END:STANDARD
BEGIN:DAYLIGHT
TZOFFSETFROM:-0600
TZOFFSETTO:-0500
TZNAME:CDT
DTSTART:20250309T080000
END:DAYLIGHT
BEGIN:STANDARD
TZOFFSETFROM:-0500
TZOFFSETTO:-0600
TZNAME:CST
DTSTART:20251102T070000
END:STANDARD
BEGIN:DAYLIGHT
TZOFFSETFROM:-0600
TZOFFSETTO:-0500
TZNAME:CDT
DTSTART:20260308T080000
END:DAYLIGHT
BEGIN:STANDARD
TZOFFSETFROM:-0500
TZOFFSETTO:-0600
TZNAME:CST
DTSTART:20261101T070000
END:STANDARD
END:VTIMEZONE
BEGIN:VEVENT
DTSTART;TZID=America/Chicago:20250621T113000
DTEND;TZID=America/Chicago:20250621T130000
DTSTAMP:20260420T015751
CREATED:20250130T222141Z
LAST-MODIFIED:20250527T140853Z
UID:2511-1750505400-1750510800@soulrerere.com
SUMMARY:Hugging the Mirror: Guided Meditation on Slooooowing Down and Allowing
DESCRIPTION:Guided Meditation on Slooooowing Down and Allowing11:30 to 1 pm. $19 SPECIAL OFFERING! \nLife is happening so fast and sometimes furious. Enjoy this time that includes a gentle guided meditation to still the noise in your head and see and hear loving wisdom. Stacy will give several practices that will continue to support your ease and joy. \nAfter the session you are welcome to stay in the afterglow with other journeyers. Cooley Bay Winery is a delightful space with food\, wine and other delights.
URL:https://soulrerere.com/event/hugging-the-mirror-live-guided-meditation-and-sound-bath-6-21-2025/
LOCATION:Cooley Bay Winery\, 545 Collin McKinney Parkway\, Van Alstyne\, TX\, 75495\, United States
ATTACH;FMTTYPE=image/jpeg:https://soulrerere.com/wp-content/uploads/2025/01/soulrerere-hugging-the-mirror.jpg
ORGANIZER;CN="Stacy Rake%2C Soul Re Re Re":MAILTO:remember@soulrerere.com
END:VEVENT
BEGIN:VEVENT
DTSTART;TZID=America/Chicago:20250517T110000
DTEND;TZID=America/Chicago:20250517T130000
DTSTAMP:20260420T015751
CREATED:20250130T221749Z
LAST-MODIFIED:20250423T180220Z
UID:2507-1747479600-1747486800@soulrerere.com
SUMMARY:Hugging the Mirror: Live Guided Meditation
DESCRIPTION:What if the drunken monkey in my head is mistaken?Is there noise in your head that doesn’t feel like love?\nWhat if that noise could be nurturing?\nIt can. \nJoin Stacy Rake for a gentle process and guided meditation to welcome and heal those wounded parts of yourself that keep talking to you. \nThis practice helps you release old patterns and remember your greatness. \nAfter the session you are welcome to stay in the afterglow with other journeyers. Cooley Bay Winery is a delightful space with food\, wine and other delights.
URL:https://soulrerere.com/event/hugging-the-mirror-live-guided-meditation-5-17-2025/
LOCATION:Cooley Bay Winery\, 545 Collin McKinney Parkway\, Van Alstyne\, TX\, 75495\, United States
ATTACH;FMTTYPE=image/jpeg:https://soulrerere.com/wp-content/uploads/2025/01/soulrerere-hugging-the-mirror.jpg
ORGANIZER;CN="Stacy Rake%2C Soul Re Re Re":MAILTO:remember@soulrerere.com
END:VEVENT
BEGIN:VEVENT
DTSTART;TZID=America/Chicago:20250419T110000
DTEND;TZID=America/Chicago:20250419T130000
DTSTAMP:20260420T015751
CREATED:20250130T221032Z
LAST-MODIFIED:20250130T221417Z
UID:2501-1745060400-1745067600@soulrerere.com
SUMMARY:Hugging the Mirror: Live Guided Meditation and Sound Bath
DESCRIPTION:What if the drunken monkey in my head is mistaken?What would it be like to remove the years of hurtful messages and conditioning and to accept and love our bodies? \nYou are invited to rest and receive during a Guided Meditation with Stacy Rake and Sound Bath integration with Teri and Mike Carlo. \nYou will experience techniques to still your mind and receive pure love. \nBring pillows and a blanket if you’d like though we will have some\, too. \nThis will be a gentle\, personal journey to help you remember your magnificence. \nAfter the session you are welcome to stay in the afterglow with other journeyers. Cooley Bay Winery is a delightful space with food\, wine and other delights.
URL:https://soulrerere.com/event/hugging-the-mirror-live-guided-meditation-and-sound-bath-4-19-2025/
LOCATION:Cooley Bay Winery\, 545 Collin McKinney Parkway\, Van Alstyne\, TX\, 75495\, United States
ATTACH;FMTTYPE=image/jpeg:https://soulrerere.com/wp-content/uploads/2025/01/soulrerere-hugging-the-mirror.jpg
ORGANIZER;CN="Stacy Rake%2C Soul Re Re Re":MAILTO:remember@soulrerere.com
END:VEVENT
BEGIN:VEVENT
DTSTART;TZID=America/Chicago:20250315T110000
DTEND;TZID=America/Chicago:20250315T130000
DTSTAMP:20260420T015751
CREATED:20250129T165253Z
LAST-MODIFIED:20250129T181120Z
UID:2483-1742036400-1742043600@soulrerere.com
SUMMARY:Hugging the Mirror: Live Guided Meditation and Sound Bath
DESCRIPTION:What if the drunken monkey in my head is mistaken?What would it be like to remove the years of hurtful messages and conditioning and to accept and love our bodies? \nYou are invited to rest and receive during a Guided Meditation with Stacy Rake and Sound Bath integration with Teri and Mike Carlo. \nYou will experience techniques to still your mind and receive pure love. \nBring pillows and a blanket if you’d like though we will have some\, too. \nThis will be a gentle\, personal journey to help you remember your magnificence. \nAfter the session you are welcome to stay in the afterglow with other journeyers. Cooley Bay Winery is a delightful space with food\, wine and other delights.
URL:https://soulrerere.com/event/hugging-the-mirror-3-15-2025/
LOCATION:Cooley Bay Winery\, 545 Collin McKinney Parkway\, Van Alstyne\, TX\, 75495\, United States
ATTACH;FMTTYPE=image/jpeg:https://soulrerere.com/wp-content/uploads/2025/01/soulrerere-hugging-the-mirror.jpg
ORGANIZER;CN="Stacy Rake%2C Soul Re Re Re":MAILTO:remember@soulrerere.com
END:VEVENT
BEGIN:VEVENT
DTSTART;TZID=America/Chicago:20250228T180000
DTEND;TZID=America/Chicago:20250228T183000
DTSTAMP:20260420T015751
CREATED:20250115T182505Z
LAST-MODIFIED:20250115T182505Z
UID:2462-1740765600-1740767400@soulrerere.com
SUMMARY:Online Hugging the Mirror
DESCRIPTION:Be at Peace with your Body Session\nDoes your image of your body feel like judgement? Does your mind say words about your body that you would NEVER say to another person? But you hear it? And believe it? \nAre you so tired of the endless self talk? \nYou weren’t born thinking this. What would it be like to be free again to love our bodies? \nYou are invited to rest and receive during an online guided meditation with Stacy Rake. \nHave pillows and a blanket on hand if you’d like\, and have something to write down your thoughts and feelings. \nThis will be a gentle\, personal journey to help you remember your magnificence. \nThe guided meditation will be from 6 to 6:30pm\, but please hop in at 5:30pm for love and support chat\, Q&A If you’d like. These brief sessions set aside time for you to create more loving kindness to yourself\, to still the chatter\, let go of inherited beliefs and remember your fabulousness.
URL:https://soulrerere.com/event/online-hugging-the-mirror/
LOCATION:Online – Link will be emailed to you
ATTACH;FMTTYPE=image/jpeg:https://soulrerere.com/wp-content/uploads/2025/01/Online-Hugging-the-Mirror-Guided-Meditation.jpg
ORGANIZER;CN="Stacy Rake%2C Soul Re Re Re":MAILTO:remember@soulrerere.com
END:VEVENT
BEGIN:VEVENT
DTSTART;TZID=America/Chicago:20250217T180000
DTEND;TZID=America/Chicago:20250217T200000
DTSTAMP:20260420T015751
CREATED:20250115T182139Z
LAST-MODIFIED:20250115T195007Z
UID:2464-1739815200-1739822400@soulrerere.com
SUMMARY:Online Past Life Exploration
DESCRIPTION:These adventures are similar to guided meditation. \nI lead you into a state of relaxation where you see the most appropriate information to support your best self in your current life. \nThis is an online experience in an optionally anonymous group setting. \nPlan and hour and a half of beautiful discovery and loving guidance. \nThe link to join this webinar will be sent to you before it begins.
URL:https://soulrerere.com/event/soul-re-re-re-past-life-exploration-6/
LOCATION:Online – Link will be emailed to you
ATTACH;FMTTYPE=image/jpeg:https://soulrerere.com/wp-content/uploads/2024/02/after-your-soul-re-re-re-session-e1709227273670.jpg
ORGANIZER;CN="Stacy Rake%2C Soul Re Re Re":MAILTO:remember@soulrerere.com
END:VEVENT
BEGIN:VEVENT
DTSTART;TZID=America/Chicago:20250212T180000
DTEND;TZID=America/Chicago:20250212T200000
DTSTAMP:20260420T015751
CREATED:20250115T155118Z
LAST-MODIFIED:20250115T195606Z
UID:2445-1739383200-1739390400@soulrerere.com
SUMMARY:Hugging the Mirror: Live Guided Meditation and Sound Bath.
DESCRIPTION:Be at Peace with your Body Session\nDoes your image of your body feel like judgement? Does your mind say words about your body that you would NEVER say to another person? But you hear it? And believe it? \nAre you so tired of the endless self talk? \nYou weren’t born thinking this. What would it be like to be free again to love our bodies? \nYou are invited to rest and receive during a guided meditation with Stacy Rake and Sound Bath integration with Teri and Mike Carlo. \nBring pillows and a blanket if you’d like. Please bring something to write your thoughts and feelings. \nThis will be a gentle\, personal journey to help you remember your magnificence.
URL:https://soulrerere.com/event/hugging-the-mirror-2-12-2025/
LOCATION:Texoma Specialty Counseling & Wellness\, 1800 Teague Drive\, Suite 510\, Sherman\, TX\, 75090\, United States
ATTACH;FMTTYPE=image/jpeg:https://soulrerere.com/wp-content/uploads/2025/01/soulrerere-hugging-the-mirror.jpg
ORGANIZER;CN="Stacy Rake%2C Soul Re Re Re":MAILTO:remember@soulrerere.com
END:VEVENT
BEGIN:VEVENT
DTSTART;TZID=America/Chicago:20250118T100000
DTEND;TZID=America/Chicago:20250118T123000
DTSTAMP:20260420T015751
CREATED:20241209T172444Z
LAST-MODIFIED:20241209T202547Z
UID:2389-1737194400-1737203400@soulrerere.com
SUMMARY:Hugging The Mirror
DESCRIPTION:Be at Peace with your Body Session\nDoes your image of your body feel like judgement? Does your mind say words about your body that you would NEVER say to another person? But you hear it? And believe it? \nAre you so tired of the endless self talk? \nYou weren’t born thinking this. What would it be like to be free again to love our bodies? \nYou are invited to rest and receive during a guided meditation with Stacy Rake and Sound Bath integration with Teri Carlo. \nBring pillows and a blanket if you’d like. Please bring something to write your thoughts and feelings. \nThis will be a gentle\, personal journey to help you remember your magnificence.
URL:https://soulrerere.com/event/hugging-the-mirror/
LOCATION:Texoma Specialty Counseling & Wellness\, 1800 Teague Drive\, Suite 510\, Sherman\, TX\, 75090\, United States
ATTACH;FMTTYPE=image/jpeg:https://soulrerere.com/wp-content/uploads/2024/12/Be-at-Peace-with-your-Body-Session.jpg
ORGANIZER;CN="Stacy Rake%2C Soul Re Re Re":MAILTO:remember@soulrerere.com
END:VEVENT
BEGIN:VEVENT
DTSTART;TZID=America/Chicago:20241003T180000
DTEND;TZID=America/Chicago:20241003T193000
DTSTAMP:20260420T015751
CREATED:20240829T144525Z
LAST-MODIFIED:20240829T144525Z
UID:2380-1727978400-1727983800@soulrerere.com
SUMMARY:Soul Re Re Re Past Life Exploration
DESCRIPTION:These adventures are similar to guided meditation. \nI lead you into a state of relaxation where you see the most appropriate information to support your best self in your current life. \nThis is an online experience in an optionally anonymous group setting. \nPlan and hour and a half of beautiful discovery and loving guidance. \nThe link to join this webinar will be sent to you before it begins.
URL:https://soulrerere.com/event/soul-re-re-re-past-life-exploration-5/
LOCATION:Online – Link will be emailed to you
CATEGORIES:Past Life Exploration (remote online)
ATTACH;FMTTYPE=image/jpeg:https://soulrerere.com/wp-content/uploads/2024/02/after-your-soul-re-re-re-session-e1709227273670.jpg
ORGANIZER;CN="Stacy Rake%2C Soul Re Re Re":MAILTO:remember@soulrerere.com
END:VEVENT
BEGIN:VEVENT
DTSTART;TZID=America/Chicago:20240825T180000
DTEND;TZID=America/Chicago:20240825T193000
DTSTAMP:20260420T015751
CREATED:20240730T184325Z
LAST-MODIFIED:20240730T184325Z
UID:2357-1724608800-1724614200@soulrerere.com
SUMMARY:Soul Re Re Re Past Life Exploration
DESCRIPTION:These adventures are similar to guided meditation. \nI lead you into a state of relaxation where you see the most appropriate information to support your best self in your current life. \nThis is an online experience in an optionally anonymous group setting. \nPlan and hour and a half of beautiful discovery and loving guidance. \nThe link to join this webinar will be sent to you before it begins.
URL:https://soulrerere.com/event/soul-re-re-re-past-life-exploration-4/
LOCATION:Online – Link will be emailed to you
ATTACH;FMTTYPE=image/jpeg:https://soulrerere.com/wp-content/uploads/2024/02/after-your-soul-re-re-re-session-e1709227273670.jpg
ORGANIZER;CN="Stacy Rake%2C Soul Re Re Re":MAILTO:remember@soulrerere.com
END:VEVENT
BEGIN:VEVENT
DTSTART;TZID=America/Chicago:20240721T170000
DTEND;TZID=America/Chicago:20240721T170000
DTSTAMP:20260420T015751
CREATED:20240614T202518Z
LAST-MODIFIED:20240614T202518Z
UID:2345-1721581200-1721581200@soulrerere.com
SUMMARY:Soul Re Re Re Past Life Exploration
DESCRIPTION:These adventures are similar to guided meditation. \nI lead you into a state of relaxation where you see the most appropriate information to support your best self in your current life. \nThis is an online experience in an optionally anonymous group setting. \nPlan and hour and a half of beautiful discovery and loving guidance. \nThe link to join this webinar will be sent to you before it begins.
URL:https://soulrerere.com/event/soul-re-re-re-past-life-exploration-3/
LOCATION:Online – Link will be emailed to you
CATEGORIES:Past Life Exploration (remote online)
ATTACH;FMTTYPE=image/jpeg:https://soulrerere.com/wp-content/uploads/2024/02/after-your-soul-re-re-re-session-e1709227273670.jpg
ORGANIZER;CN="Stacy Rake%2C Soul Re Re Re":MAILTO:remember@soulrerere.com
END:VEVENT
BEGIN:VEVENT
DTSTART;TZID=America/Chicago:20240718T190000
DTEND;TZID=America/Chicago:20240718T190000
DTSTAMP:20260420T015751
CREATED:20240614T202214Z
LAST-MODIFIED:20240614T202251Z
UID:2342-1721329200-1721329200@soulrerere.com
SUMMARY:Soul Re Re Re Past Life Exploration
DESCRIPTION:These adventures are similar to guided meditation. \nI lead you into a state of relaxation where you see the most appropriate information to support your best self in your current life. \nThis is an online experience in an optionally anonymous group setting. \nPlan and hour and a half of beautiful discovery and loving guidance. \nThe link to join this webinar will be sent to you before it begins.
URL:https://soulrerere.com/event/soul-re-re-re-past-life-exploration-2/
LOCATION:Online – Link will be emailed to you
CATEGORIES:Past Life Exploration (remote online)
ATTACH;FMTTYPE=image/jpeg:https://soulrerere.com/wp-content/uploads/2024/02/after-your-soul-re-re-re-session-e1709227273670.jpg
ORGANIZER;CN="Stacy Rake%2C Soul Re Re Re":MAILTO:remember@soulrerere.com
END:VEVENT
BEGIN:VEVENT
DTSTART;TZID=America/Chicago:20240713T100000
DTEND;TZID=America/Chicago:20240713T100000
DTSTAMP:20260420T015751
CREATED:20240614T200803Z
LAST-MODIFIED:20240614T202539Z
UID:2339-1720864800-1720864800@soulrerere.com
SUMMARY:Soul Re Re Re Past Life Exploration
DESCRIPTION:These adventures are similar to guided meditation. \nI lead you into a state of relaxation where you see the most appropriate information to support your best self in your current life. \nThis is an online experience in an optionally anonymous group setting. \nPlan and hour and a half of beautiful discovery and loving guidance. \nThe link to join this webinar will be sent to you before it begins.
URL:https://soulrerere.com/event/soul-re-re-re-past-life-exploration-7-13/
LOCATION:Online – Link will be emailed to you
CATEGORIES:Past Life Exploration (remote online)
ATTACH;FMTTYPE=image/jpeg:https://soulrerere.com/wp-content/uploads/2024/02/after-your-soul-re-re-re-session-e1709227273670.jpg
ORGANIZER;CN="Stacy Rake%2C Soul Re Re Re":MAILTO:remember@soulrerere.com
END:VEVENT
BEGIN:VEVENT
DTSTART;TZID=America/Chicago:20240702T180000
DTEND;TZID=America/Chicago:20240702T180000
DTSTAMP:20260420T015751
CREATED:20240613T144846Z
LAST-MODIFIED:20240614T201927Z
UID:2325-1719943200-1719943200@soulrerere.com
SUMMARY:Soul Re Re Re Past Life Exploration
DESCRIPTION:These adventures are similar to guided meditation. \nI lead you into a state of relaxation where you see the most appropriate information to support your best self in your current life. \nThis is an online experience in an optionally anonymous group setting. \nPlan and hour and a half of beautiful discovery and loving guidance. \nThe link to join this webinar will be sent to you before it begins.
URL:https://soulrerere.com/event/soul-re-re-re-past-life-exploration/
LOCATION:Online – Link will be emailed to you
CATEGORIES:Past Life Exploration (remote online)
ATTACH;FMTTYPE=image/jpeg:https://soulrerere.com/wp-content/uploads/2024/02/after-your-soul-re-re-re-session-e1709227273670.jpg
ORGANIZER;CN="Stacy Rake%2C Soul Re Re Re":MAILTO:remember@soulrerere.com
END:VEVENT
END:VCALENDAR